BEGIN:VCALENDAR
VERSION:2.0
PRODID:-//World Salmon Council - ECPv6.15.15//NONSGML v1.0//EN
CALSCALE:GREGORIAN
METHOD:PUBLISH
X-ORIGINAL-URL:https://worldsalmoncouncil.org
X-WR-CALDESC:Events for World Salmon Council
REFRESH-INTERVAL;VALUE=DURATION:PT1H
X-Robots-Tag:noindex
X-PUBLISHED-TTL:PT1H
BEGIN:VTIMEZONE
TZID:America/Los_Angeles
BEGIN:DAYLIGHT
TZOFFSETFROM:-0800
TZOFFSETTO:-0700
TZNAME:PDT
DTSTART:20240310T100000
END:DAYLIGHT
BEGIN:STANDARD
TZOFFSETFROM:-0700
TZOFFSETTO:-0800
TZNAME:PST
DTSTART:20241103T090000
END:STANDARD
BEGIN:DAYLIGHT
TZOFFSETFROM:-0800
TZOFFSETTO:-0700
TZNAME:PDT
DTSTART:20250309T100000
END:DAYLIGHT
BEGIN:STANDARD
TZOFFSETFROM:-0700
TZOFFSETTO:-0800
TZNAME:PST
DTSTART:20251102T090000
END:STANDARD
BEGIN:DAYLIGHT
TZOFFSETFROM:-0800
TZOFFSETTO:-0700
TZNAME:PDT
DTSTART:20260308T100000
END:DAYLIGHT
BEGIN:STANDARD
TZOFFSETFROM:-0700
TZOFFSETTO:-0800
TZNAME:PST
DTSTART:20261101T090000
END:STANDARD
END:VTIMEZONE
BEGIN:VEVENT
DTSTART;TZID=America/Los_Angeles:20250313T160000
DTEND;TZID=America/Los_Angeles:20250313T190000
DTSTAMP:20260422T231916
CREATED:20250131T233743Z
LAST-MODIFIED:20250131T234111Z
UID:10284-1741881600-1741892400@worldsalmoncouncil.org
SUMMARY:Noche de Ciencias (Night of Science)
DESCRIPTION:Join World Salmon Council in tabling and bringing the science of salmon to youth and families in grades K-5. Please sign up for this event using our event calander if you are interesting is joining us! Noche de Ciencias is a night of interactive science outreach hosted by the Society of Hispanic Professional Engineers. \nTo learn more about this event: https://shpe.org/engage/programs/noche-de-ciencias/    \nPlease email Emilly.jones@worldsalmon.org to receive our sing up calendar link.
URL:https://worldsalmoncouncil.org/wsc-event/noche-de-ciencias-night-of-science/
END:VEVENT
BEGIN:VEVENT
DTSTART;TZID=America/Los_Angeles:20250327T110000
DTEND;TZID=America/Los_Angeles:20250327T150000
DTSTAMP:20260422T231916
CREATED:20250226T210340Z
LAST-MODIFIED:20250226T214649Z
UID:10307-1743073200-1743087600@worldsalmoncouncil.org
SUMMARY:People of Color Outdoor - Salmon Dissection
DESCRIPTION:Join Us for a Salmon Dissection with the POCO Guardians Angel Program! 🐟🔬 \nGet hands-on with science and help students explore the incredible anatomy of Pacific salmon! As a volunteer\, you’ll lead a class dissection sharing about the organs that help salmon live their life! This class lesson will also allow volunteer to share about the vital role salmon play in our ecosystems. No prior experience is needed—we’ll provide training and all materials. \nCome share your curiosity\, inspire the next generation of environmental stewards\, and have fun while doing it!
URL:https://worldsalmoncouncil.org/wsc-event/people-of-color-outdoor-salmon-dissection/
END:VEVENT
END:VCALENDAR