BEGIN:VCALENDAR
VERSION:2.0
PRODID:-//World Salmon Council - ECPv6.15.15//NONSGML v1.0//EN
CALSCALE:GREGORIAN
METHOD:PUBLISH
X-WR-CALNAME:World Salmon Council
X-ORIGINAL-URL:https://worldsalmoncouncil.org
X-WR-CALDESC:Events for World Salmon Council
REFRESH-INTERVAL;VALUE=DURATION:PT1H
X-Robots-Tag:noindex
X-PUBLISHED-TTL:PT1H
BEGIN:VTIMEZONE
TZID:America/Los_Angeles
BEGIN:DAYLIGHT
TZOFFSETFROM:-0800
TZOFFSETTO:-0700
TZNAME:PDT
DTSTART:20230312T100000
END:DAYLIGHT
BEGIN:STANDARD
TZOFFSETFROM:-0700
TZOFFSETTO:-0800
TZNAME:PST
DTSTART:20231105T090000
END:STANDARD
BEGIN:DAYLIGHT
TZOFFSETFROM:-0800
TZOFFSETTO:-0700
TZNAME:PDT
DTSTART:20240310T100000
END:DAYLIGHT
BEGIN:STANDARD
TZOFFSETFROM:-0700
TZOFFSETTO:-0800
TZNAME:PST
DTSTART:20241103T090000
END:STANDARD
BEGIN:DAYLIGHT
TZOFFSETFROM:-0800
TZOFFSETTO:-0700
TZNAME:PDT
DTSTART:20250309T100000
END:DAYLIGHT
BEGIN:STANDARD
TZOFFSETFROM:-0700
TZOFFSETTO:-0800
TZNAME:PST
DTSTART:20251102T090000
END:STANDARD
END:VTIMEZONE
BEGIN:VEVENT
DTSTART;TZID=America/Los_Angeles:20240601T100000
DTEND;TZID=America/Los_Angeles:20240601T140000
DTSTAMP:20260422T183207
CREATED:20240201T170848Z
LAST-MODIFIED:20240201T170848Z
UID:9208-1717236000-1717250400@worldsalmoncouncil.org
SUMMARY:Girl Scouts Field Trips
DESCRIPTION:
URL:https://worldsalmoncouncil.org/wsc-event/girl-scouts-field-trips/
LOCATION:Dirksen Nature Park\, 11130 SW Tiedeman Ave\, Tigard\, OR\, 97223\, United States
END:VEVENT
END:VCALENDAR